BEGIN:VCALENDAR
VERSION:2.0
PRODID:-//Camas Montessori - ECPv6.15.20//NONSGML v1.0//EN
CALSCALE:GREGORIAN
METHOD:PUBLISH
X-WR-CALNAME:Camas Montessori
X-ORIGINAL-URL:https://www.camasmontessori.com
X-WR-CALDESC:Events for Camas Montessori
REFRESH-INTERVAL;VALUE=DURATION:PT1H
X-Robots-Tag:noindex
X-PUBLISHED-TTL:PT1H
BEGIN:VTIMEZONE
TZID:America/Los_Angeles
BEGIN:DAYLIGHT
TZOFFSETFROM:-0800
TZOFFSETTO:-0700
TZNAME:PDT
DTSTART:20240310T100000
END:DAYLIGHT
BEGIN:STANDARD
TZOFFSETFROM:-0700
TZOFFSETTO:-0800
TZNAME:PST
DTSTART:20241103T090000
END:STANDARD
BEGIN:DAYLIGHT
TZOFFSETFROM:-0800
TZOFFSETTO:-0700
TZNAME:PDT
DTSTART:20250309T100000
END:DAYLIGHT
BEGIN:STANDARD
TZOFFSETFROM:-0700
TZOFFSETTO:-0800
TZNAME:PST
DTSTART:20251102T090000
END:STANDARD
BEGIN:DAYLIGHT
TZOFFSETFROM:-0800
TZOFFSETTO:-0700
TZNAME:PDT
DTSTART:20260308T100000
END:DAYLIGHT
BEGIN:STANDARD
TZOFFSETFROM:-0700
TZOFFSETTO:-0800
TZNAME:PST
DTSTART:20261101T090000
END:STANDARD
END:VTIMEZONE
BEGIN:VEVENT
DTSTART;TZID=America/Los_Angeles:20250822T160000
DTEND;TZID=America/Los_Angeles:20250822T173000
DTSTAMP:20260421T091216
CREATED:20250814T193027Z
LAST-MODIFIED:20250814T193027Z
UID:3917-1755878400-1755883800@www.camasmontessori.com
SUMMARY:New Parent Orientation 4pm-5:30pm
DESCRIPTION:This event is for our new students and their adults. \nMeet your child’s teacher and learn about classroom guidelines\, expectations and the daily schedule. \nChildcare is provided for enrolled children. \nNew Parent Orientation 4pm-5:30pm
URL:https://www.camasmontessori.com/event/new-parent-orientation-4pm-530pm/
END:VEVENT
BEGIN:VEVENT
DTSTART;VALUE=DATE:20250825
DTEND;VALUE=DATE:20250827
DTSTAMP:20260421T091216
CREATED:20250814T193453Z
LAST-MODIFIED:20250814T193453Z
UID:3924-1756080000-1756252799@www.camasmontessori.com
SUMMARY:New Student Orientation Days 8/25 & 8/26
DESCRIPTION:2 hour work period for new students only \nYour teacher will be in touch after August 18th to arrange a 2 hour block for both days \nNew Student Orientation Days 8/25 & 8/26
URL:https://www.camasmontessori.com/event/new-student-orientation-days-8-25-8-26/
END:VEVENT
BEGIN:VEVENT
DTSTART;VALUE=DATE:20250827
DTEND;VALUE=DATE:20250829
DTSTAMP:20260421T091216
CREATED:20250814T193714Z
LAST-MODIFIED:20250814T193714Z
UID:3927-1756252800-1756425599@www.camasmontessori.com
SUMMARY:Returning Students Only
DESCRIPTION:Regular school hours for returning students only
URL:https://www.camasmontessori.com/event/returning-students-only/
END:VEVENT
BEGIN:VEVENT
DTSTART;TZID=America/Los_Angeles:20250827T163000
DTEND;TZID=America/Los_Angeles:20250827T173000
DTSTAMP:20260421T091216
CREATED:20250814T194944Z
LAST-MODIFIED:20250821T044415Z
UID:3929-1756312200-1756315800@www.camasmontessori.com
SUMMARY:Ice Cream Social
DESCRIPTION:All of our currently enrolled families are invited to join us for ice cream at Lacamas Park! 4:30-5:30 \nEnjoy a yummy treat served by your teachers while meeting other CMS families. \nAnnual Ice Cream Social Event
URL:https://www.camasmontessori.com/event/ice-cream-social/
LOCATION:Lacamas Park\, 3344 NE Everett St\, Camas\, WA\, 98607\, United States
CATEGORIES:Event
ATTACH;FMTTYPE=image/jpeg:https://www.camasmontessori.com/wp-content/uploads/2025/08/ice-cream-party-002.jpg
END:VEVENT
END:VCALENDAR