BEGIN:VCALENDAR
VERSION:2.0
PRODID:-//Camas Montessori - ECPv6.15.20//NONSGML v1.0//EN
CALSCALE:GREGORIAN
METHOD:PUBLISH
X-ORIGINAL-URL:https://www.camasmontessori.com
X-WR-CALDESC:Events for Camas Montessori
REFRESH-INTERVAL;VALUE=DURATION:PT1H
X-Robots-Tag:noindex
X-PUBLISHED-TTL:PT1H
BEGIN:VTIMEZONE
TZID:America/Los_Angeles
BEGIN:DAYLIGHT
TZOFFSETFROM:-0800
TZOFFSETTO:-0700
TZNAME:PDT
DTSTART:20240310T100000
END:DAYLIGHT
BEGIN:STANDARD
TZOFFSETFROM:-0700
TZOFFSETTO:-0800
TZNAME:PST
DTSTART:20241103T090000
END:STANDARD
BEGIN:DAYLIGHT
TZOFFSETFROM:-0800
TZOFFSETTO:-0700
TZNAME:PDT
DTSTART:20250309T100000
END:DAYLIGHT
BEGIN:STANDARD
TZOFFSETFROM:-0700
TZOFFSETTO:-0800
TZNAME:PST
DTSTART:20251102T090000
END:STANDARD
BEGIN:DAYLIGHT
TZOFFSETFROM:-0800
TZOFFSETTO:-0700
TZNAME:PDT
DTSTART:20260308T100000
END:DAYLIGHT
BEGIN:STANDARD
TZOFFSETFROM:-0700
TZOFFSETTO:-0800
TZNAME:PST
DTSTART:20261101T090000
END:STANDARD
END:VTIMEZONE
BEGIN:VEVENT
DTSTART;TZID=America/Los_Angeles:20250306T080000
DTEND;TZID=America/Los_Angeles:20250307T160000
DTSTAMP:20260421T061920
CREATED:20240731T191422Z
LAST-MODIFIED:20240731T195747Z
UID:3816-1741248000-1741363200@www.camasmontessori.com
SUMMARY:Spring conferences March 6th & 7th
DESCRIPTION:Spring conferences March 6th & 7th – No school for students  \nChildcare available for current students during their conference time- by reservation only \n30 minute conferences for the parents/guardians to meet with their child’s teacher \nClassrooms will create sign-ups individually and teachers will reach out to families \nChildcare is available for current students during their conference time- by reservation only \n 
URL:https://www.camasmontessori.com/event/spring-conferences-march-6th-7th/
CATEGORIES:No School
ATTACH;FMTTYPE=image/jpeg:https://www.camasmontessori.com/wp-content/uploads/2022/08/Spring-Conference.jpg
END:VEVENT
BEGIN:VEVENT
DTSTART;TZID=America/Los_Angeles:20250326T081500
DTEND;TZID=America/Los_Angeles:20250326T113000
DTSTAMP:20260421T061920
CREATED:20240731T200227Z
LAST-MODIFIED:20240731T200227Z
UID:3833-1742976900-1742988600@www.camasmontessori.com
SUMMARY:Early Release / Staff Meeting
DESCRIPTION:Early Release at 11:30am for all students. \nNo pm care.   \nStaff meeting.
URL:https://www.camasmontessori.com/event/early-release-staff-meeting-7/
CATEGORIES:Early Release,Meeting
ATTACH;FMTTYPE=image/jpeg:https://www.camasmontessori.com/wp-content/uploads/2022/08/early-release-day.jpg
END:VEVENT
BEGIN:VEVENT
DTSTART;VALUE=DATE:20250331
DTEND;VALUE=DATE:20250405
DTSTAMP:20260421T061920
CREATED:20240731T191702Z
LAST-MODIFIED:20240731T191702Z
UID:3818-1743379200-1743811199@www.camasmontessori.com
SUMMARY:Spring break 2025 March 31-April 4th
DESCRIPTION:Spring break March 31-April 4th \nSchool Closed
URL:https://www.camasmontessori.com/event/spring-break-2025-march-31-april-4th/
CATEGORIES:No School
ATTACH;FMTTYPE=image/jpeg:https://www.camasmontessori.com/wp-content/uploads/2022/08/spring-break.jpg
END:VEVENT
END:VCALENDAR