BEGIN:VCALENDAR
VERSION:2.0
PRODID:-//Camas Montessori - ECPv6.15.20//NONSGML v1.0//EN
CALSCALE:GREGORIAN
METHOD:PUBLISH
X-ORIGINAL-URL:https://www.camasmontessori.com
X-WR-CALDESC:Events for Camas Montessori
REFRESH-INTERVAL;VALUE=DURATION:PT1H
X-Robots-Tag:noindex
X-PUBLISHED-TTL:PT1H
BEGIN:VTIMEZONE
TZID:America/Los_Angeles
BEGIN:DAYLIGHT
TZOFFSETFROM:-0800
TZOFFSETTO:-0700
TZNAME:PDT
DTSTART:20230312T100000
END:DAYLIGHT
BEGIN:STANDARD
TZOFFSETFROM:-0700
TZOFFSETTO:-0800
TZNAME:PST
DTSTART:20231105T090000
END:STANDARD
BEGIN:DAYLIGHT
TZOFFSETFROM:-0800
TZOFFSETTO:-0700
TZNAME:PDT
DTSTART:20240310T100000
END:DAYLIGHT
BEGIN:STANDARD
TZOFFSETFROM:-0700
TZOFFSETTO:-0800
TZNAME:PST
DTSTART:20241103T090000
END:STANDARD
BEGIN:DAYLIGHT
TZOFFSETFROM:-0800
TZOFFSETTO:-0700
TZNAME:PDT
DTSTART:20250309T100000
END:DAYLIGHT
BEGIN:STANDARD
TZOFFSETFROM:-0700
TZOFFSETTO:-0800
TZNAME:PST
DTSTART:20251102T090000
END:STANDARD
BEGIN:DAYLIGHT
TZOFFSETFROM:-0800
TZOFFSETTO:-0700
TZNAME:PDT
DTSTART:20260308T100000
END:DAYLIGHT
BEGIN:STANDARD
TZOFFSETFROM:-0700
TZOFFSETTO:-0800
TZNAME:PST
DTSTART:20261101T090000
END:STANDARD
END:VTIMEZONE
BEGIN:VEVENT
DTSTART;VALUE=DATE:20241223
DTEND;VALUE=DATE:20250104
DTSTAMP:20260421T091410
CREATED:20240731T013545Z
LAST-MODIFIED:20240731T013545Z
UID:3793-1734912000-1735948799@www.camasmontessori.com
SUMMARY:Winter Break
DESCRIPTION:Winter break – No School \nDecember 23\, 2024 -January 3\, 2025
URL:https://www.camasmontessori.com/event/winter-break/
ATTACH;FMTTYPE=image/jpeg:https://www.camasmontessori.com/wp-content/uploads/2022/08/winter-break.jpg
END:VEVENT
BEGIN:VEVENT
DTSTART;VALUE=DATE:20250120
DTEND;VALUE=DATE:20250121
DTSTAMP:20260421T091410
CREATED:20240731T185842Z
LAST-MODIFIED:20240731T185842Z
UID:3807-1737331200-1737417599@www.camasmontessori.com
SUMMARY:Martin Luther King Day
DESCRIPTION:Martin Luther King Day January 20th \nNo School
URL:https://www.camasmontessori.com/event/martin-luther-king-day/
ATTACH;FMTTYPE=image/jpeg:https://www.camasmontessori.com/wp-content/uploads/2023/11/martin-luther-king-day.jpg
END:VEVENT
BEGIN:VEVENT
DTSTART;VALUE=DATE:20250127
DTEND;VALUE=DATE:20250128
DTSTAMP:20260421T091410
CREATED:20240731T190433Z
LAST-MODIFIED:20240731T190433Z
UID:3809-1737936000-1738022399@www.camasmontessori.com
SUMMARY:Teacher In-Service Day
DESCRIPTION:Teacher In-Service Day – January 27th  \nNo school for students  \n*might be used as our first inclement weather make up day* TBD
URL:https://www.camasmontessori.com/event/teacher-in-service-day-2/
CATEGORIES:No School
END:VEVENT
BEGIN:VEVENT
DTSTART;TZID=America/Los_Angeles:20250129T081500
DTEND;TZID=America/Los_Angeles:20250129T113000
DTSTAMP:20260421T091410
CREATED:20240731T195449Z
LAST-MODIFIED:20240731T195449Z
UID:3829-1738138500-1738150200@www.camasmontessori.com
SUMMARY:Early Release / Staff Meeting
DESCRIPTION:Early Release at 11:30am for all students. \nNo pm care. \nStaff meeting.
URL:https://www.camasmontessori.com/event/early-release-staff-meeting-5/
CATEGORIES:Early Release,Meeting
ATTACH;FMTTYPE=image/jpeg:https://www.camasmontessori.com/wp-content/uploads/2022/08/early-release-day.jpg
END:VEVENT
BEGIN:VEVENT
DTSTART;TZID=America/Los_Angeles:20250129T160000
DTEND;TZID=America/Los_Angeles:20250129T180000
DTSTAMP:20260421T091410
CREATED:20240731T201744Z
LAST-MODIFIED:20240731T201744Z
UID:3839-1738166400-1738173600@www.camasmontessori.com
SUMMARY:New Student Open House and Registration
DESCRIPTION:This open house event is open for people to come check out our school\, meet staff\, look around classrooms and see if Camas Montessori may be a good fit for your child and family. Registration forms will be available. \nMore details to come!
URL:https://www.camasmontessori.com/event/new-student-open-house-and-registration/
END:VEVENT
END:VCALENDAR