BEGIN:VCALENDAR
VERSION:2.0
PRODID:-//Camas Montessori - ECPv6.15.20//NONSGML v1.0//EN
CALSCALE:GREGORIAN
METHOD:PUBLISH
X-ORIGINAL-URL:https://www.camasmontessori.com
X-WR-CALDESC:Events for Camas Montessori
REFRESH-INTERVAL;VALUE=DURATION:PT1H
X-Robots-Tag:noindex
X-PUBLISHED-TTL:PT1H
BEGIN:VTIMEZONE
TZID:America/Los_Angeles
BEGIN:DAYLIGHT
TZOFFSETFROM:-0800
TZOFFSETTO:-0700
TZNAME:PDT
DTSTART:20230312T100000
END:DAYLIGHT
BEGIN:STANDARD
TZOFFSETFROM:-0700
TZOFFSETTO:-0800
TZNAME:PST
DTSTART:20231105T090000
END:STANDARD
BEGIN:DAYLIGHT
TZOFFSETFROM:-0800
TZOFFSETTO:-0700
TZNAME:PDT
DTSTART:20240310T100000
END:DAYLIGHT
BEGIN:STANDARD
TZOFFSETFROM:-0700
TZOFFSETTO:-0800
TZNAME:PST
DTSTART:20241103T090000
END:STANDARD
BEGIN:DAYLIGHT
TZOFFSETFROM:-0800
TZOFFSETTO:-0700
TZNAME:PDT
DTSTART:20250309T100000
END:DAYLIGHT
BEGIN:STANDARD
TZOFFSETFROM:-0700
TZOFFSETTO:-0800
TZNAME:PST
DTSTART:20251102T090000
END:STANDARD
END:VTIMEZONE
BEGIN:VEVENT
DTSTART;TZID=America/Los_Angeles:20240827T170000
DTEND;TZID=America/Los_Angeles:20240827T183000
DTSTAMP:20260421T171143
CREATED:20240731T015400Z
LAST-MODIFIED:20240731T015400Z
UID:3796-1724778000-1724783400@www.camasmontessori.com
SUMMARY:Orientation Night for New CMS parents/guardians
DESCRIPTION:This is for families that are new to Camas Montessori School for the 2024-2025 school year. \nYou will meet in your child’s classroom at 5pm. \nThis is an important evening where teachers present their classroom policies and expectations. You can ask questions and meet new families.
URL:https://www.camasmontessori.com/event/orientation-night-for-new-cms-parents-guardians/
END:VEVENT
BEGIN:VEVENT
DTSTART;TZID=America/Los_Angeles:20240828T080000
DTEND;TZID=America/Los_Angeles:20240828T120000
DTSTAMP:20260421T171143
CREATED:20240730T214302Z
LAST-MODIFIED:20240730T214302Z
UID:3751-1724832000-1724846400@www.camasmontessori.com
SUMMARY:Orientation for new students
DESCRIPTION:Orientation for new students- half day August 28th and 29th \nTeachers will reach out to you to set up your child’s scheduled class time for these two days \nNew students only
URL:https://www.camasmontessori.com/event/orientation-for-new-students/
ATTACH;FMTTYPE=image/jpeg:https://www.camasmontessori.com/wp-content/uploads/2024/07/welcome-to-our-school-sign-.jpg
END:VEVENT
BEGIN:VEVENT
DTSTART;TZID=America/Los_Angeles:20240829T080000
DTEND;TZID=America/Los_Angeles:20240829T120000
DTSTAMP:20260421T171143
CREATED:20240730T214429Z
LAST-MODIFIED:20240730T214429Z
UID:3754-1724918400-1724932800@www.camasmontessori.com
SUMMARY:Orientation for new students
DESCRIPTION:Orientation for new students- half day August 28th and 29th \nTeachers will reach out to you to set up your child’s scheduled class time for these two days \nNew students only
URL:https://www.camasmontessori.com/event/orientation-for-new-students-3/
ATTACH;FMTTYPE=image/jpeg:https://www.camasmontessori.com/wp-content/uploads/2024/07/welcome-to-our-school-sign-.jpg
END:VEVENT
BEGIN:VEVENT
DTSTART;TZID=America/Los_Angeles:20240830T080000
DTEND;TZID=America/Los_Angeles:20240902T170000
DTSTAMP:20260421T171143
CREATED:20240730T215533Z
LAST-MODIFIED:20240730T215533Z
UID:3756-1725004800-1725296400@www.camasmontessori.com
SUMMARY:Labor Day- No School
DESCRIPTION:No school – Labor Day August 30th-Sept 2nd
URL:https://www.camasmontessori.com/event/labor-day-no-school-2/
ATTACH;FMTTYPE=image/jpeg:https://www.camasmontessori.com/wp-content/uploads/2022/08/no-school-clipart-Labor-Day-1.jpg
END:VEVENT
END:VCALENDAR