BEGIN:VCALENDAR
VERSION:2.0
PRODID:-//Camas Montessori - ECPv6.15.20//NONSGML v1.0//EN
CALSCALE:GREGORIAN
METHOD:PUBLISH
X-ORIGINAL-URL:https://www.camasmontessori.com
X-WR-CALDESC:Events for Camas Montessori
REFRESH-INTERVAL;VALUE=DURATION:PT1H
X-Robots-Tag:noindex
X-PUBLISHED-TTL:PT1H
BEGIN:VTIMEZONE
TZID:America/Los_Angeles
BEGIN:DAYLIGHT
TZOFFSETFROM:-0800
TZOFFSETTO:-0700
TZNAME:PDT
DTSTART:20230312T100000
END:DAYLIGHT
BEGIN:STANDARD
TZOFFSETFROM:-0700
TZOFFSETTO:-0800
TZNAME:PST
DTSTART:20231105T090000
END:STANDARD
BEGIN:DAYLIGHT
TZOFFSETFROM:-0800
TZOFFSETTO:-0700
TZNAME:PDT
DTSTART:20240310T100000
END:DAYLIGHT
BEGIN:STANDARD
TZOFFSETFROM:-0700
TZOFFSETTO:-0800
TZNAME:PST
DTSTART:20241103T090000
END:STANDARD
BEGIN:DAYLIGHT
TZOFFSETFROM:-0800
TZOFFSETTO:-0700
TZNAME:PDT
DTSTART:20250309T100000
END:DAYLIGHT
BEGIN:STANDARD
TZOFFSETFROM:-0700
TZOFFSETTO:-0800
TZNAME:PST
DTSTART:20251102T090000
END:STANDARD
END:VTIMEZONE
BEGIN:VEVENT
DTSTART;TZID=America/Los_Angeles:20240216T081500
DTEND;TZID=America/Los_Angeles:20240216T160000
DTSTAMP:20260422T022145
CREATED:20240119T195948Z
LAST-MODIFIED:20240119T200422Z
UID:3698-1708071300-1708099200@www.camasmontessori.com
SUMMARY:Snow Make-up Day
DESCRIPTION:Previously a part of the 4 day holiday weekend\, this is now a snow make-up day.
URL:https://www.camasmontessori.com/event/3698/
ATTACH;FMTTYPE=image/jpeg:https://www.camasmontessori.com/wp-content/uploads/2022/08/Snow-Make-Up-Day-Clipart.jpg
END:VEVENT
BEGIN:VEVENT
DTSTART;TZID=America/Los_Angeles:20240219T080000
DTEND;TZID=America/Los_Angeles:20240219T170000
DTSTAMP:20260422T022145
CREATED:20240119T185005Z
LAST-MODIFIED:20240120T002225Z
UID:3693-1708329600-1708362000@www.camasmontessori.com
SUMMARY:Presidents Day Holiday
DESCRIPTION:No School Today
URL:https://www.camasmontessori.com/event/presidents-day-holiday/
ATTACH;FMTTYPE=image/jpeg:https://www.camasmontessori.com/wp-content/uploads/2022/08/presidents-day.jpg
END:VEVENT
BEGIN:VEVENT
DTSTART;TZID=America/Los_Angeles:20240221T160000
DTEND;TZID=America/Los_Angeles:20240221T190000
DTSTAMP:20260422T022145
CREATED:20240120T010654Z
LAST-MODIFIED:20240120T010654Z
UID:3721-1708531200-1708542000@www.camasmontessori.com
SUMMARY:Open House for current students
DESCRIPTION:Open House for current students \nStudents take the lead this evening\, showing their family their favorite classroom lessons. The children are proud and excited to show their family around. We kindly ask that you leave cell phones on silent mode and find a sitter for siblings so that your child can have your full attention. Thank you!
URL:https://www.camasmontessori.com/event/open-house-for-current-students/
ATTACH;FMTTYPE=image/jpeg:https://www.camasmontessori.com/wp-content/uploads/2023/11/Open-House.jpeg
END:VEVENT
BEGIN:VEVENT
DTSTART;TZID=America/Los_Angeles:20240228T081500
DTEND;TZID=America/Los_Angeles:20240228T113000
DTSTAMP:20260422T022145
CREATED:20240120T004022Z
LAST-MODIFIED:20240120T004022Z
UID:3709-1709108100-1709119800@www.camasmontessori.com
SUMMARY:Early Release
DESCRIPTION:
URL:https://www.camasmontessori.com/event/early-release-4/
ATTACH;FMTTYPE=image/jpeg:https://www.camasmontessori.com/wp-content/uploads/2022/08/early-release-day.jpg
END:VEVENT
END:VCALENDAR