BEGIN:VCALENDAR
VERSION:2.0
PRODID:-//Camas Montessori - ECPv6.15.20//NONSGML v1.0//EN
CALSCALE:GREGORIAN
METHOD:PUBLISH
X-WR-CALNAME:Camas Montessori
X-ORIGINAL-URL:https://www.camasmontessori.com
X-WR-CALDESC:Events for Camas Montessori
REFRESH-INTERVAL;VALUE=DURATION:PT1H
X-Robots-Tag:noindex
X-PUBLISHED-TTL:PT1H
BEGIN:VTIMEZONE
TZID:America/Los_Angeles
BEGIN:DAYLIGHT
TZOFFSETFROM:-0800
TZOFFSETTO:-0700
TZNAME:PDT
DTSTART:20220313T100000
END:DAYLIGHT
BEGIN:STANDARD
TZOFFSETFROM:-0700
TZOFFSETTO:-0800
TZNAME:PST
DTSTART:20221106T090000
END:STANDARD
BEGIN:DAYLIGHT
TZOFFSETFROM:-0800
TZOFFSETTO:-0700
TZNAME:PDT
DTSTART:20230312T100000
END:DAYLIGHT
BEGIN:STANDARD
TZOFFSETFROM:-0700
TZOFFSETTO:-0800
TZNAME:PST
DTSTART:20231105T090000
END:STANDARD
BEGIN:DAYLIGHT
TZOFFSETFROM:-0800
TZOFFSETTO:-0700
TZNAME:PDT
DTSTART:20240310T100000
END:DAYLIGHT
BEGIN:STANDARD
TZOFFSETFROM:-0700
TZOFFSETTO:-0800
TZNAME:PST
DTSTART:20241103T090000
END:STANDARD
BEGIN:DAYLIGHT
TZOFFSETFROM:-0800
TZOFFSETTO:-0700
TZNAME:PDT
DTSTART:20250309T100000
END:DAYLIGHT
BEGIN:STANDARD
TZOFFSETFROM:-0700
TZOFFSETTO:-0800
TZNAME:PST
DTSTART:20251102T090000
END:STANDARD
END:VTIMEZONE
BEGIN:VEVENT
DTSTART;TZID=America/Los_Angeles:20231218T080000
DTEND;TZID=America/Los_Angeles:20240101T170000
DTSTAMP:20260422T035236
CREATED:20231122T045623Z
LAST-MODIFIED:20231122T045623Z
UID:3668-1702886400-1704128400@www.camasmontessori.com
SUMMARY:No School
DESCRIPTION:Winter Break
URL:https://www.camasmontessori.com/event/no-school-2/
ATTACH;FMTTYPE=image/jpeg:https://www.camasmontessori.com/wp-content/uploads/2022/08/winter-break.jpg
END:VEVENT
BEGIN:VEVENT
DTSTART;TZID=America/Los_Angeles:20240112T081500
DTEND;TZID=America/Los_Angeles:20240112T113000
DTSTAMP:20260422T035236
CREATED:20240112T025609Z
LAST-MODIFIED:20240112T025609Z
UID:3687-1705047300-1705059000@www.camasmontessori.com
SUMMARY:Early Release due to Inclement Weather
DESCRIPTION:Early Release at 11:30 am Friday January 12th\, 2024
URL:https://www.camasmontessori.com/event/early-release-due-to-inclement-weather/
ATTACH;FMTTYPE=image/jpeg:https://www.camasmontessori.com/wp-content/uploads/2024/01/Early-Release-Weather-Alert-e1705027938724.jpg
END:VEVENT
BEGIN:VEVENT
DTSTART;TZID=America/Los_Angeles:20240115T080000
DTEND;TZID=America/Los_Angeles:20240115T170000
DTSTAMP:20260422T035236
CREATED:20231122T050041Z
LAST-MODIFIED:20231122T050041Z
UID:3670-1705305600-1705338000@www.camasmontessori.com
SUMMARY:No School
DESCRIPTION:Martin Luther King Jr. Day
URL:https://www.camasmontessori.com/event/no-school-3/
ATTACH;FMTTYPE=image/jpeg:https://www.camasmontessori.com/wp-content/uploads/2023/11/martin-luther-king-day.jpg
END:VEVENT
BEGIN:VEVENT
DTSTART;TZID=America/Los_Angeles:20240126T081500
DTEND;TZID=America/Los_Angeles:20240126T160000
DTSTAMP:20260422T035236
CREATED:20231122T051012Z
LAST-MODIFIED:20240119T190517Z
UID:3673-1706256900-1706284800@www.camasmontessori.com
SUMMARY:Snow/Ice Make-up Day
DESCRIPTION:This day was going to be a Teacher In-Service Day\, a non-attendance for children. We are now using this day as our first snow make-up day.
URL:https://www.camasmontessori.com/event/no-school-4/
ATTACH;FMTTYPE=image/jpeg:https://www.camasmontessori.com/wp-content/uploads/2022/08/Snow-Make-Up-Day-Clipart.jpg
END:VEVENT
BEGIN:VEVENT
DTSTART;TZID=America/Los_Angeles:20240127T110000
DTEND;TZID=America/Los_Angeles:20240127T130000
DTSTAMP:20260422T035236
CREATED:20231122T051802Z
LAST-MODIFIED:20231122T051857Z
UID:3676-1706353200-1706360400@www.camasmontessori.com
SUMMARY:New Student Registration and Open House
DESCRIPTION:Open house for new and prospective families
URL:https://www.camasmontessori.com/event/new-student-registration-and-open-house/
ATTACH;FMTTYPE=image/jpeg:https://www.camasmontessori.com/wp-content/uploads/2023/11/Open-House.jpeg
END:VEVENT
BEGIN:VEVENT
DTSTART;TZID=America/Los_Angeles:20240131T081500
DTEND;TZID=America/Los_Angeles:20240131T113000
DTSTAMP:20260422T035236
CREATED:20240108T080429Z
LAST-MODIFIED:20240108T080429Z
UID:3684-1706688900-1706700600@www.camasmontessori.com
SUMMARY:Early Release
DESCRIPTION:
URL:https://www.camasmontessori.com/event/early-release-3/
CATEGORIES:Early Release,Meeting
ATTACH;FMTTYPE=image/jpeg:https://www.camasmontessori.com/wp-content/uploads/2022/08/early-release-day.jpg
END:VEVENT
END:VCALENDAR