BEGIN:VCALENDAR
VERSION:2.0
PRODID:-//Camas Montessori - ECPv6.15.20//NONSGML v1.0//EN
CALSCALE:GREGORIAN
METHOD:PUBLISH
X-ORIGINAL-URL:https://www.camasmontessori.com
X-WR-CALDESC:Events for Camas Montessori
REFRESH-INTERVAL;VALUE=DURATION:PT1H
X-Robots-Tag:noindex
X-PUBLISHED-TTL:PT1H
BEGIN:VTIMEZONE
TZID:America/Los_Angeles
BEGIN:DAYLIGHT
TZOFFSETFROM:-0800
TZOFFSETTO:-0700
TZNAME:PDT
DTSTART:20220313T100000
END:DAYLIGHT
BEGIN:STANDARD
TZOFFSETFROM:-0700
TZOFFSETTO:-0800
TZNAME:PST
DTSTART:20221106T090000
END:STANDARD
BEGIN:DAYLIGHT
TZOFFSETFROM:-0800
TZOFFSETTO:-0700
TZNAME:PDT
DTSTART:20230312T100000
END:DAYLIGHT
BEGIN:STANDARD
TZOFFSETFROM:-0700
TZOFFSETTO:-0800
TZNAME:PST
DTSTART:20231105T090000
END:STANDARD
BEGIN:DAYLIGHT
TZOFFSETFROM:-0800
TZOFFSETTO:-0700
TZNAME:PDT
DTSTART:20240310T100000
END:DAYLIGHT
BEGIN:STANDARD
TZOFFSETFROM:-0700
TZOFFSETTO:-0800
TZNAME:PST
DTSTART:20241103T090000
END:STANDARD
END:VTIMEZONE
BEGIN:VEVENT
DTSTART;TZID=America/Los_Angeles:20230531T160000
DTEND;TZID=America/Los_Angeles:20230531T173000
DTSTAMP:20260424T121152
CREATED:20230512T012818Z
LAST-MODIFIED:20230512T012818Z
UID:3593-1685548800-1685554200@www.camasmontessori.com
SUMMARY:Parents in the Park
DESCRIPTION:We want to celebrate YOU\, parents! Join us at Fallen Leaf Lake Park from 4pm to 5:30 on Wednesday May 31st.  Bring a picnic for you family and enjoy a small snack from the children.
URL:https://www.camasmontessori.com/event/parents-in-the-park/
LOCATION:Fallen Leaf Lake Park\, 2911 NE Everett St\, Camas\, WA 98607\, Camas\, WA\, 98607\, United States
END:VEVENT
END:VCALENDAR